BEGIN:VCALENDAR
VERSION:2.0
PRODID:-//Library Market//iCal Export//EN
BEGIN:VEVENT
SUMMARY:Stitched Birthday Cards
UID:3911
DTSTAMP:20260423T115100Z
DTSTART:20240916T180000Z
DTEND:20240916T200000Z
LOCATION:Byron Public Library District, 100 S Washington St., Byron, IL 61
 010, United States
ROOM: Creative Studio
DESCRIPTION:Hand stitching on a card gives it a unique look. You&#039;ll m
 ake two beautiful birthday cards using a template and embroidery floss. Yo
 ur recipient is sure to be impressed! 
URL:https://www.byronlibrary.org/event/stitched-birthday-cards-3911
END:VEVENT
END:VCALENDAR
