BEGIN:VCALENDAR
VERSION:2.0
PRODID:-//Library Market//iCal Export//EN
BEGIN:VEVENT
SUMMARY:Bridge
UID:396
DTSTAMP:20260423T082800Z
DTSTART:20240730T180000Z
DTEND:20240730T210000Z
LOCATION:Byron Public Library District, 100 S Washington St., Byron, IL 61
 010, United States
ROOM: Meeting Room
DESCRIPTION:
URL:https://www.byronlibrary.org/event/bridge-396
END:VEVENT
END:VCALENDAR
