BEGIN:VCALENDAR
VERSION:2.0
PRODID:-//Library Market//iCal Export//EN
BEGIN:VEVENT
SUMMARY:Local Ghostly Legends &amp; Myths
UID:3960
DTSTAMP:20260423T100500Z
DTSTART:20241003T230000Z
DTEND:20241004T003000Z
LOCATION:Byron Public Library District, 100 S Washington St., Byron, IL 61
 010, United States
ROOM: Meeting Room
DESCRIPTION:Come enjoy a spooky evening with local historian and author Ka
 thi Kresol. Kathi has been researching ghost stories, true crimes, and odd
  tales of the local area for almost two decades. She will share her newest
  stories of the hauntings and legends of the area. This presentation will 
 include tales of vengeful spirits and strange encounters with the other si
 de. 
URL:https://www.byronlibrary.org/event/christine-haunted-rockford-3960
END:VEVENT
END:VCALENDAR
