BEGIN:VCALENDAR
VERSION:2.0
PRODID:-//Library Market//iCal Export//EN
BEGIN:VEVENT
SUMMARY:&quot;Dinosaur Farm&quot; StoryWalk®-Heritage Farm
UID:3969
DTSTAMP:20260423T115100Z
DTSTART:20240726T050000Z
DTEND:20240909T050000Z
LOCATION:Heritage Farm Museum, 8059 N. River Road, Byron, IL 61010, United
  States
ROOM: Byron Forest Preserve: Heritage Farm
DESCRIPTION:Current book: &quot;Dinosaur Farm&quot; by Frann Preston-Ganno
 n. Its hard work being a farmer—and even harder running a DINOSAUR FARM!
  Follow the farmer from dawn till dusk, through feedings, cleanings, baby 
 hatchings, and finally to a sweet bedtime nighty-night.
URL:https://www.byronlibrary.org/event/dinosaur-farm-storywalkr-heritage-f
 arm-3969
END:VEVENT
END:VCALENDAR
