BEGIN:VCALENDAR
VERSION:2.0
PRODID:-//Library Market//iCal Export//EN
BEGIN:VEVENT
SUMMARY:Amazing Axolotl Art Kit
UID:3970
DTSTAMP:20260423T115100Z
DTSTART:20240913T140000Z
DTEND:20240913T220000Z
LOCATION:Byron Public Library District, 100 S Washington St., Byron, IL 61
 010, United States
ROOM: Amazing Axolotl Art Kit
DESCRIPTION:Create a 3-D axolotl in an aquarium. This project is for youth
  in 1st-5th grade.
URL:https://www.byronlibrary.org/event/amazing-axolotl-art-kit-3970
END:VEVENT
END:VCALENDAR
