BEGIN:VCALENDAR
VERSION:2.0
PRODID:-//Library Market//iCal Export//EN
BEGIN:VEVENT
SUMMARY:Read to a Dog
UID:3972
DTSTAMP:20260423T113100Z
DTSTART:20240909T230000Z
DTEND:20240909T231500Z
LOCATION:Byron Public Library District, 100 S Washington St., Byron, IL 61
 010, United States
ROOM: Porch
DESCRIPTION:Spend 15 minutes reading to a certified therapy dog! The absen
 ce of judgment from the canine listeners creates a stress-free environment
  where children can practice their reading skills without fear of criticis
 m.For youth in 1st-5th grade in Fall 2024 who are independently reading. B
 ring a book at reading level or come early and select one from the library
 . 
URL:https://www.byronlibrary.org/event/read-dog-3972
END:VEVENT
END:VCALENDAR
