BEGIN:VCALENDAR
VERSION:2.0
PRODID:-//Library Market//iCal Export//EN
BEGIN:VEVENT
SUMMARY:Iris Fold Cards
UID:4014
DTSTAMP:20260423T095600Z
DTSTART:20241014T180000Z
DTEND:20241014T200000Z
LOCATION:Byron Public Library District, 100 S Washington St., Byron, IL 61
 010, United States
ROOM: Creative Studio
DESCRIPTION:Iris folding is an age-old technique that has made a recent co
 meback in the crafting world. Come give it a try while making 3 adorable c
 ards. You&#039;ll be amazed that such a beautiful technique is much easier
  than it appears! 
URL:https://www.byronlibrary.org/event/iris-fold-cards-4014
END:VEVENT
END:VCALENDAR
