BEGIN:VCALENDAR
VERSION:2.0
PRODID:-//Library Market//iCal Export//EN
BEGIN:VEVENT
SUMMARY:Iris Fold Cards
UID:4015
DTSTAMP:20260423T095700Z
DTSTART:20241015T223000Z
DTEND:20241016T003000Z
LOCATION:Byron Public Library District, 100 S Washington St., Byron, IL 61
 010, United States
ROOM: Creative Studio
DESCRIPTION:Iris folding is an age-old technique that has made a recent co
 meback in the crafting world. Come give it a try while making 3 adorable c
 ards. You&#039;ll be amazed that such a beautiful technique is much easier
  than it appears! 
URL:https://www.byronlibrary.org/event/iris-fold-cards-4015
END:VEVENT
END:VCALENDAR
