BEGIN:VCALENDAR
VERSION:2.0
PRODID:-//Library Market//iCal Export//EN
BEGIN:VEVENT
SUMMARY:Fall Pie Slice Garland Kit
UID:4018
DTSTAMP:20260423T095700Z
DTSTART:20241025T140000Z
DTEND:20241025T220000Z
LOCATION:Byron Public Library District, 100 S Washington St., Byron, IL 61
 010, United States
ROOM: Fall Pie Slice Garland Kit
DESCRIPTION:Create your own adorable pie slice garland with the supplies p
 rovided in this kit! No registration is required! Kits will be available s
 tarting Friday, October 25th at 9:00am on a first come first served basis.
  Limit is 1 per person with no holds. While supplies last!
URL:https://www.byronlibrary.org/event/fall-pie-slice-garland-kit-4018
END:VEVENT
END:VCALENDAR
