BEGIN:VCALENDAR
VERSION:2.0
PRODID:-//Library Market//iCal Export//EN
BEGIN:VEVENT
SUMMARY:Teen Book Box
UID:4056
DTSTAMP:20260423T115100Z
DTSTART:20240904T050000Z
DTEND:20240904T050000Z
LOCATION:Byron Public Library District, 100 S Washington St., Byron, IL 61
 010, United States
ROOM: Teen Book Box
DESCRIPTION:Sign up for a Book Box! This is a quarterly program, in which 
 teens can sign up to receive a box filled with two books, crafts and treat
 s. The books will be checked out to your library card, and you need to ret
 urn the two books and box to the library when done reading, but you get to
  keep everything else in the box! When you register, let us know if you ar
 e in middle school or high school so appropriate books can be selected for
  you. This box theme will be DIVERSITY. Everyone&#039;s box will be slight
 ly different, but all will be packed with awesomeness!
URL:https://www.byronlibrary.org/event/teen-book-box-4056
END:VEVENT
END:VCALENDAR
