BEGIN:VCALENDAR
VERSION:2.0
PRODID:-//Library Market//iCal Export//EN
BEGIN:VEVENT
SUMMARY:Volunteens- Blessing Bags
UID:4057
DTSTAMP:20260423T115100Z
DTSTART:20240909T230000Z
DTEND:20240910T000000Z
LOCATION:Byron Public Library District, 100 S Washington St., Byron, IL 61
 010, United States
ROOM: Meeting Room
DESCRIPTION:Earn volunteer hours by helping assemble Blessing Bags for the
  homeless! Each participant will go home with a complete bag to pass out. 
 Please bring small items such as non-perishable snacks to be used in the b
 ags. The library will provide hygiene supplies for the bags. If a student 
 brings items that can be used, they can earn an extra hour of volunteer ti
 me, in addition to the one they will earn for attending.
URL:https://www.byronlibrary.org/event/volunteens-blessing-bags-4057
END:VEVENT
END:VCALENDAR
