BEGIN:VCALENDAR
VERSION:2.0
PRODID:-//Library Market//iCal Export//EN
BEGIN:VEVENT
SUMMARY:Teen Game Night
UID:4082
DTSTAMP:20260423T115200Z
DTSTART:20240919T230000Z
DTEND:20240920T003000Z
LOCATION:Byron Public Library District, 100 S Washington St., Byron, IL 61
 010, United States
ROOM: Teen Department
DESCRIPTION:Want to learn new games but the rules seem daunting to learn? 
 Gaming enthusiast Dakota will guide you through learning a new game each m
 onth! Love Letter is a game of risk, deduction and luck!  Snacks provided
  during game play. 
URL:https://www.byronlibrary.org/event/teen-game-night-4082
END:VEVENT
END:VCALENDAR
