BEGIN:VCALENDAR
VERSION:2.0
PRODID:-//Library Market//iCal Export//EN
BEGIN:VEVENT
SUMMARY:Teen Dungeons &amp; Dragons
UID:4085
DTSTAMP:20260423T115100Z
DTSTART:20240918T203000Z
DTEND:20240918T220000Z
LOCATION:Byron Public Library District, 100 S Washington St., Byron, IL 61
 010, United States
ROOM: Classroom 2
DESCRIPTION:Join our weekly after-school D&amp;D group, which is open to n
 ew and experienced players! The two Dungeon Masters alternate weeks, so it
  would be best to pick one D&amp;D campaign and come every other week, so 
 you stay with one DM and epic journey! Jacob: 9/4, 9/18, 10/2, 10/16, 10/
 30Adam: 9/11, 9/25, 10/9, 10/23
URL:https://www.byronlibrary.org/event/teen-dungeons-dragons-4085
END:VEVENT
END:VCALENDAR
