BEGIN:VCALENDAR
VERSION:2.0
PRODID:-//Library Market//iCal Export//EN
BEGIN:VEVENT
SUMMARY:Adult Dungeons &amp; Dragons
UID:4088
DTSTAMP:20260423T113200Z
DTSTART:20240908T180000Z
DTEND:20240908T200000Z
LOCATION:Byron Public Library District, 100 S Washington St., Byron, IL 61
 010, United States
ROOM: Classroom 1
DESCRIPTION:Adults: Join a new Dungeons &amp; Dragons group, run by an exp
 erienced DM! Will meet monthly.
URL:https://www.byronlibrary.org/event/dungeons-dragons-4088
END:VEVENT
END:VCALENDAR
