BEGIN:VCALENDAR
VERSION:2.0
PRODID:-//Library Market//iCal Export//EN
BEGIN:VEVENT
SUMMARY:&quot;Don&#039;t Let the Pigeon Drive the Bus&quot; StoryWalk®-Ja
 rrett Prairie Center
UID:4097
DTSTAMP:20260423T115100Z
DTSTART:20240812T050000Z
DTEND:20241018T050000Z
LOCATION:Byron Forest Preserve Jarrett Prairie Center, 7993 North River Ro
 ad, Byron, IL 61010, United States
ROOM: Byron Forest Preserve: Indigo Trail StoryWalk
DESCRIPTION:Current book: &quot;Don&#039;t Let the Pigeon Drive the Bus!&q
 uot; by Mo Williams. When the Bus Driver takes a break from his route, a v
 ery unlikely volunteer springs up to take his place—a pigeon! But you&#0
 39;ve never met a pigeon like this one before. As the Pigeon pleads, wheed
 les, and begs his way through the book, readers answer back and decide his
  fate.
URL:https://www.byronlibrary.org/event/dont-let-pigeon-drive-bus-storywalk
 r-jarrett-prairie-center-4097
END:VEVENT
END:VCALENDAR
