BEGIN:VCALENDAR
VERSION:2.0
PRODID:-//Library Market//iCal Export//EN
BEGIN:VEVENT
SUMMARY:Wednesday Night Readers
UID:438
DTSTAMP:20260423T113400Z
DTSTART:20240515T233000Z
DTEND:20240516T003000Z
LOCATION:Byron Public Library District, 100 S Washington St., Byron, IL 61
 010, United States
ROOM: Classroom 1
DESCRIPTION:This month&#039;s book is: &quot;The House Is on Fire&quot; by
  Rachel Beanland. Richmond, Virginia, 1811. It&#039;s the height of the w
 inter social season. On the night after Christmas, the city&#039;s only th
 eater is packed when it goes up in flames. Four characters make difficult 
 decisions.  
URL:https://www.byronlibrary.org/event/wednesday-night-readers-438
END:VEVENT
END:VCALENDAR
