BEGIN:VCALENDAR
VERSION:2.0
PRODID:-//Library Market//iCal Export//EN
BEGIN:VEVENT
SUMMARY:The History of the Beach Boys
UID:439
DTSTAMP:20260423T113400Z
DTSTART:20240606T230000Z
DTEND:20240607T003000Z
LOCATION:Byron Public Library District, 100 S Washington St., Byron, IL 61
 010, United States
ROOM: Meeting Room
DESCRIPTION:If summer had a sound it would be the Beach Boys...surf, sun a
 nd California dreaming. This presentation will focus on The Beach Boys &qu
 ot;sunniest&quot; years from 1962-1967. With the use of performance and in
 terview clips, we&#039;ll trace the arc of the Beach Boys&#039; early care
 er from &quot;Surfin&#039; U.S.A.&quot;, &quot;Fun, Fun, Fun&quot; and &qu
 ot;California Girls&quot; to the more mature Pet Sounds, &quot;Good Vibrat
 ions&quot; and the abandoned Smile project. Surf&#039;s Up!
URL:https://www.byronlibrary.org/event/history-beach-boys-439
END:VEVENT
END:VCALENDAR
