BEGIN:VCALENDAR
VERSION:2.0
PRODID:-//Library Market//iCal Export//EN
BEGIN:VEVENT
SUMMARY:Sewing - Zippered Pouch
UID:441
DTSTAMP:20260423T113400Z
DTSTART:20240510T150000Z
DTEND:20240510T163000Z
LOCATION:Byron Public Library District, 100 S Washington St., Byron, IL 61
 010, United States
ROOM: Creative Studio
DESCRIPTION:Our sewing project for May is a Zippered Pouch. All materials 
 will be provided. 
URL:https://www.byronlibrary.org/event/sewing-zippered-pouch-441
END:VEVENT
END:VCALENDAR
