BEGIN:VCALENDAR
VERSION:2.0
PRODID:-//Library Market//iCal Export//EN
BEGIN:VEVENT
SUMMARY:DIY Clay Propagation Holder
UID:442
DTSTAMP:20260423T115100Z
DTSTART:20240506T230000Z
DTEND:20240507T003000Z
LOCATION:Byron Public Library District, 100 S Washington St., Byron, IL 61
 010, United States
ROOM: Creative Studio
DESCRIPTION:Join Cathy in our Creative Studio as you create your very own 
 personalized clay propagation holder. All supplies will be provided. 
URL:https://www.byronlibrary.org/event/diy-clay-propagation-holder-442
END:VEVENT
END:VCALENDAR
