BEGIN:VCALENDAR
VERSION:2.0
PRODID:-//Library Market//iCal Export//EN
BEGIN:VEVENT
SUMMARY:Tattoo Your Totes
UID:443
DTSTAMP:20260423T115100Z
DTSTART:20240520T230000Z
DTEND:20240521T003000Z
LOCATION:Byron Public Library District, 100 S Washington St., Byron, IL 61
 010, United States
ROOM: Creative Studio
DESCRIPTION:Join Cathy in our Creative Studio as you create your own uniqu
 e canvas tote bag using floral tattoos. All supplies will be provided. 
URL:https://www.byronlibrary.org/event/tattoo-your-totes-443
END:VEVENT
END:VCALENDAR
