BEGIN:VCALENDAR
VERSION:2.0
PRODID:-//Library Market//iCal Export//EN
BEGIN:VEVENT
SUMMARY:The Cicadas Are Coming!
UID:445
DTSTAMP:20260423T113500Z
DTSTART:20240530T230000Z
DTEND:20240531T000000Z
LOCATION:Byron Public Library District, 100 S Washington St., Byron, IL 61
 010, United States
ROOM: Meeting Room
DESCRIPTION:Incoming for the spring of 2024, millions of Periodical Cicada
 s will be emerging in Illinois. While they deafen us with sound, and intim
 idate us with their big red eyes, Cicadas are good samaritans. During this
  program find out where they will emerge, how long they will stay, whether
  they harm plants, and if they are edible. 
URL:https://www.byronlibrary.org/event/cicadas-are-coming-445
END:VEVENT
END:VCALENDAR
