BEGIN:VCALENDAR
VERSION:2.0
PRODID:-//Library Market//iCal Export//EN
BEGIN:VEVENT
SUMMARY:Dolly&#039;s Book Bash
UID:4479
DTSTAMP:20260423T095600Z
DTSTART:20241003T143000Z
DTEND:20241003T153000Z
LOCATION:Byron Public Library District, 100 S Washington St., Byron, IL 61
 010, United States
ROOM: Activity Room
DESCRIPTION:Listen to a story and make some crafts! Sign your child up for
  Dolly&#039;s Imagination Library (receive a free book mailed to your home
  monthly).  Our regular storytime is on break this week. For ages 2-5 yea
 rs, with caregiver.
URL:https://www.byronlibrary.org/event/dollys-book-bash-4479
END:VEVENT
END:VCALENDAR
