BEGIN:VCALENDAR
VERSION:2.0
PRODID:-//Library Market//iCal Export//EN
BEGIN:VEVENT
SUMMARY:Bats &amp; Cats Kit
UID:4484
DTSTAMP:20260423T095600Z
DTSTART:20241011T140000Z
DTEND:20241011T220000Z
LOCATION:Byron Public Library District, 100 S Washington St., Byron, IL 61
 010, United States
ROOM: Bats &amp; Cats Kit
DESCRIPTION:Create a bat and a cat! For ages 3 years-K.
URL:https://www.byronlibrary.org/event/bats-cats-kit-4484
END:VEVENT
END:VCALENDAR
