BEGIN:VCALENDAR
VERSION:2.0
PRODID:-//Library Market//iCal Export//EN
BEGIN:VEVENT
SUMMARY:Sharpie Art
UID:4489
DTSTAMP:20260423T095700Z
DTSTART:20241016T204500Z
DTEND:20241016T214500Z
LOCATION:Byron Public Library District, 100 S Washington St., Byron, IL 61
 010, United States
ROOM: Activity Room
DESCRIPTION:Create art using sharpies! For youth in K-5th grade.
URL:https://www.byronlibrary.org/event/sharpie-art-4489
END:VEVENT
END:VCALENDAR
