BEGIN:VCALENDAR
VERSION:2.0
PRODID:-//Library Market//iCal Export//EN
BEGIN:VEVENT
SUMMARY:Garlic Parmesan Crockpot Bread
UID:4609
DTSTAMP:20260423T095600Z
DTSTART:20241002T230000Z
DTEND:20241003T000000Z
LOCATION:Byron Public Library District, 100 S Washington St., Byron, IL 61
 010, United States
ROOM: Meeting Room
DESCRIPTION:Join Beth as she demonstrates how to make this yummy garlic pa
 rmesan bread in a crockpot and have a little taste. 
URL:https://www.byronlibrary.org/event/garlic-parmesan-crockpot-bread-4609
END:VEVENT
END:VCALENDAR
