BEGIN:VCALENDAR
VERSION:2.0
PRODID:-//Library Market//iCal Export//EN
BEGIN:VEVENT
SUMMARY:Sewing - Jar Opener
UID:4611
DTSTAMP:20260423T095700Z
DTSTART:20241025T150000Z
DTEND:20241025T163000Z
LOCATION:Byron Public Library District, 100 S Washington St., Byron, IL 61
 010, United States
ROOM: Creative Studio
DESCRIPTION:Our sewing project for the month of October is a Jar Opener. R
 egardless of experience, enrollment in this class requires successful comp
 letion of the Beginner Sewing class at Byron Public Library. 
URL:https://www.byronlibrary.org/event/sewing-jar-opener-4611
END:VEVENT
END:VCALENDAR
