BEGIN:VCALENDAR
VERSION:2.0
PRODID:-//Library Market//iCal Export//EN
BEGIN:VEVENT
SUMMARY:Wednesday Night Readers
UID:4614
DTSTAMP:20260423T095600Z
DTSTART:20241016T233000Z
DTEND:20241017T003000Z
LOCATION:Byron Public Library District, 100 S Washington St., Byron, IL 61
 010, United States
ROOM: Classroom 1
DESCRIPTION:When Chloe Davis was twelve, six teenage girls went missing in
  her small Louisiana town. By the end of the summer, her own father had co
 nfessed to the crimes and was put away for life, leaving Chloe and the res
 t of her family to grapple with the truth and try to move forward while de
 aling with the aftermath. 
URL:https://www.byronlibrary.org/event/wednesday-night-readers-4614
END:VEVENT
END:VCALENDAR
