BEGIN:VCALENDAR
VERSION:2.0
PRODID:-//Library Market//iCal Export//EN
BEGIN:VEVENT
SUMMARY:Butterfly Art
UID:462
DTSTAMP:20260423T113200Z
DTSTART:20240605T160000Z
DTEND:20240605T170000Z
LOCATION:Byron Public Library District, 100 S Washington St., Byron, IL 61
 010, United States
ROOM: Activity Room
DESCRIPTION:Creative crafting for grade schoolers! Paint a butterfly and c
 reate a garden habitat. This program is for youth entering 1st-6th grade i
 n the fall of 2024. 
URL:https://www.byronlibrary.org/event/butterfly-art-462
END:VEVENT
END:VCALENDAR
