BEGIN:VCALENDAR
VERSION:2.0
PRODID:-//Library Market//iCal Export//EN
BEGIN:VEVENT
SUMMARY:DIY Deco Mesh Pumpkin Wreath
UID:4632
DTSTAMP:20260423T095600Z
DTSTART:20241021T230000Z
DTEND:20241022T003000Z
LOCATION:Byron Public Library District, 100 S Washington St., Byron, IL 61
 010, United States
ROOM: Creative Studio &amp; Classroom 2
DESCRIPTION:Add a touch of fall to your front door with this easy deco mes
 h pumpkin wreath! Join Cathy has she walks you through making this perfect
  pumpkin that will most certainly become a highlight of your autumn decor!
URL:https://www.byronlibrary.org/event/deco-mesh-pumpkin-wreath-4632
END:VEVENT
END:VCALENDAR
