BEGIN:VCALENDAR
VERSION:2.0
PRODID:-//Library Market//iCal Export//EN
BEGIN:VEVENT
SUMMARY:Marble Run Mania-Wednesday
UID:466
DTSTAMP:20260423T113200Z
DTSTART:20240619T160000Z
DTEND:20240619T170000Z
LOCATION:Byron Public Library District, 100 S Washington St., Byron, IL 61
 010, United States
ROOM: Meeting Room
DESCRIPTION:Create marble runs out of a variety of materials. This program
  is for youth entering 1st-6th grade in the Fall of 2024. 
URL:https://www.byronlibrary.org/event/marble-run-mania-466
END:VEVENT
END:VCALENDAR
