BEGIN:VCALENDAR
VERSION:2.0
PRODID:-//Library Market//iCal Export//EN
BEGIN:VEVENT
SUMMARY:Teen Spider Wreaths
UID:4689
DTSTAMP:20260423T100500Z
DTSTART:20241003T230000Z
DTEND:20241004T000000Z
LOCATION:Byron Public Library District, 100 S Washington St., Byron, IL 61
 010, United States
ROOM: Teen Department &amp; Creative Studio
DESCRIPTION:Make a spook-tacular Spider Wreath, perfect for the upcoming H
 alloween season! For youth in grades 6-12 only. 
URL:https://www.byronlibrary.org/event/teen-spider-wreaths-4689
END:VEVENT
END:VCALENDAR
