BEGIN:VCALENDAR
VERSION:2.0
PRODID:-//Library Market//iCal Export//EN
BEGIN:VEVENT
SUMMARY:Will It Bubble?-Thursday
UID:469
DTSTAMP:20260423T113500Z
DTSTART:20240627T160000Z
DTEND:20240627T170000Z
LOCATION:Byron Public Library District, 100 S Washington St., Byron, IL 61
 010, United States
ROOM: Activity Room
DESCRIPTION:Create and test a variety of objects to see what produces bubb
 les. This program is for youth entering 1st-6th grade in the Fall of 2024.
URL:https://www.byronlibrary.org/event/will-it-bubble-469
END:VEVENT
END:VCALENDAR
