BEGIN:VCALENDAR
VERSION:2.0
PRODID:-//Library Market//iCal Export//EN
BEGIN:VEVENT
SUMMARY:Interactive Movie for Teens
UID:4691
DTSTAMP:20260423T095700Z
DTSTART:20241014T200000Z
DTEND:20241014T220000Z
LOCATION:Byron Public Library District, 100 S Washington St., Byron, IL 61
 010, United States
ROOM: Teen Department
DESCRIPTION:Let&#039;s have an excellent time together on your day off sch
 ool! We will watch Bill &amp; Ted&#039;s Excellent Adventure (PG) together
  and you will get a bag full of goodies for an interactive experience duri
 ng the movie. There is no Teen Time on this day, this movie will be at th
 e same time instead.  
URL:https://www.byronlibrary.org/event/interactive-movie-teens-4691
END:VEVENT
END:VCALENDAR
