BEGIN:VCALENDAR
VERSION:2.0
PRODID:-//Library Market//iCal Export//EN
BEGIN:VEVENT
SUMMARY:Murder Mystery for Teens
UID:4709
DTSTAMP:20260423T095700Z
DTSTART:20241026T230000Z
DTEND:20241027T010000Z
LOCATION:Byron Public Library District, 100 S Washington St., Byron, IL 61
 010, United States
ROOM: Meeting Room
DESCRIPTION:Are you ready to solve a Murder Mystery?! Join us for a deadly
  good time and a free pizza dinner. You will be emailed your role in early
  October, and then you need to stop by the library to pick up the instruct
 ion sheet for your character. Please come in costume, based on your charac
 ter sheet. This is an after-hours event. 
URL:https://www.byronlibrary.org/event/murder-mystery-teens-4709
END:VEVENT
END:VCALENDAR
