BEGIN:VCALENDAR
VERSION:2.0
PRODID:-//Library Market//iCal Export//EN
BEGIN:VEVENT
SUMMARY:Teen Game Night
UID:4710
DTSTAMP:20260423T095600Z
DTSTART:20241017T230000Z
DTEND:20241018T003000Z
LOCATION:Byron Public Library District, 100 S Washington St., Byron, IL 61
 010, United States
ROOM: Teen Department
DESCRIPTION:Want to learn new games but the rules seem daunting to learn? 
 Gaming enthusiast Dakota will guide you through learning a new game each m
 onth. Learn how to play Horrified, a game in which classic movie monsters 
 terrorize a town! Can your team stop them in time? Snacks provided during 
 game play. 
URL:https://www.byronlibrary.org/event/teen-game-night-4710
END:VEVENT
END:VCALENDAR
