BEGIN:VCALENDAR
VERSION:2.0
PRODID:-//Library Market//iCal Export//EN
BEGIN:VEVENT
SUMMARY:Rogue Town: A True Crime Story
UID:4729
DTSTAMP:20260423T082800Z
DTSTART:20241108T000000Z
DTEND:20241108T010000Z
LOCATION:Byron Public Library District, 100 S Washington St., Byron, IL 61
 010, United States
ROOM: Meeting Room
DESCRIPTION:Join local author Vito Colucci, Jr. as he discusses his Pulitz
 er Prize winning book Rogue Town. Rogue Town is Vito&#039;s first-hand acc
 ount of the true story of Stamford, Connecticut, a city that from 1965 thr
 ough 1985 was under the stranglehold of organized crime and run by corrupt
  officials. This story served as a catalyst for Ronald Reagan as he establ
 ished the President&#039;s commission on organized crime.Vito received the
  Combat Cross for a shootout he was involved in, and received Valor Citati
 ons. He has been a regular commentator on various news programs including:
  48 Hours, MSNBC, Fox News, and CNN. Vito has been a private investigator 
 since 1990, and his own radio show &quot;Crime Time&quot; with Vito Colucc
 i PI. A signed copy of Rogue Town will be raffled off during the program, 
 with additional copies available for purchase. ($20 cash or check) 
URL:https://www.byronlibrary.org/event/rogue-town-true-crime-story-4729
END:VEVENT
END:VCALENDAR
