BEGIN:VCALENDAR
VERSION:2.0
PRODID:-//Library Market//iCal Export//EN
BEGIN:VEVENT
SUMMARY:Lighted Winter Scene Shadow Box Kit
UID:4730
DTSTAMP:20260423T082800Z
DTSTART:20241115T150000Z
DTEND:20241115T230000Z
LOCATION:Byron Public Library District, 100 S Washington St., Byron, IL 61
 010, United States
ROOM: Lighted Winter Scene Shadow Box Kit
DESCRIPTION:Layer cardstock and add lights to create this beautiful winter
  scene shadow box! A great touch to your winter decor! Due to high demand 
 of our kit pick-ups we&#039;re limiting them to 1 per household please. Ki
 ts will be available starting Friday, November 15th at 9:00am.
URL:https://www.byronlibrary.org/event/winter-scene-shadow-box-kit-4730
END:VEVENT
END:VCALENDAR
