BEGIN:VCALENDAR
VERSION:2.0
PRODID:-//Library Market//iCal Export//EN
BEGIN:VEVENT
SUMMARY:Crackle Paint Scarecrow
UID:4758
DTSTAMP:20260423T082800Z
DTSTART:20241105T233000Z
DTEND:20241106T013000Z
LOCATION:Byron Public Library District, 100 S Washington St., Byron, IL 61
 010, United States
ROOM: Creative Studio &amp; Classroom 2
DESCRIPTION:This adorable scarecrow is the perfect craft to get everyone i
 n the fall mood. Come try your hand at crackle painting to make one of you
 r own. 
URL:https://www.byronlibrary.org/event/jills-scarecrow-craft-4758
END:VEVENT
END:VCALENDAR
