BEGIN:VCALENDAR
VERSION:2.0
PRODID:-//Library Market//iCal Export//EN
BEGIN:VEVENT
SUMMARY:Read to a Dog
UID:477
DTSTAMP:20260423T113400Z
DTSTART:20240617T231500Z
DTEND:20240617T233000Z
LOCATION:Byron Public Library District, 100 S Washington St., Byron, IL 61
 010, United States
ROOM: Porch
DESCRIPTION:
URL:https://www.byronlibrary.org/event/read-dog-477
END:VEVENT
END:VCALENDAR
