BEGIN:VCALENDAR
VERSION:2.0
PRODID:-//Library Market//iCal Export//EN
BEGIN:VEVENT
SUMMARY:Firefly Family Theater
UID:478
DTSTAMP:20260423T115200Z
DTSTART:20240603T160000Z
DTEND:20240603T170000Z
LOCATION:Byron Public Library District, 100 S Washington St., Byron, IL 61
 010, United States
ROOM: Meeting Room
DESCRIPTION:Enjoy an interactive show with puppets, songs, movement and mo
 re! Best for ages 2-8 years but all ages are welcome! An adult should plan
  to attend too. 
URL:https://www.byronlibrary.org/event/firefly-family-theater-478
END:VEVENT
END:VCALENDAR
