BEGIN:VCALENDAR
VERSION:2.0
PRODID:-//Library Market//iCal Export//EN
BEGIN:VEVENT
SUMMARY:&quot;Give Bees a Chance&quot; StoryWalk®-Heritage Farm
UID:4781
DTSTAMP:20260423T115100Z
DTSTART:20240910T050000Z
DTEND:20241018T050000Z
LOCATION:Heritage Farm Museum, 8059 N. River Road, Byron, IL 61010, United
  States
ROOM: Byron Forest Preserve: Heritage Farm
DESCRIPTION:Current book: &quot;Give Bees a Chance&quot; by Bethany Barton
 . Not sure whether to high-five bees or run away from them? Well, maybe y
 ou shouldn&#039;t high-five them, but you definitely don&#039;t have to ru
 n away from them. Give Bees a Chance is for anyone who doesn&#039;t quite 
 appreciate how extra special and important bees are to the world, and even
  to humankind! Besides making yummy honey, they help plants grow fruits an
 d vegetables. And most bees wouldn&#039;t hurt a fly (unless it was in sel
 f-defense!). Bethany Barton&#039;s interactive cartoon-style illustration
 s and hilarious narrator mean this book is full of facts and fun. 
URL:https://www.byronlibrary.org/event/give-bees-chance-storywalkr-heritag
 e-farm-4781
END:VEVENT
END:VCALENDAR
