BEGIN:VCALENDAR
VERSION:2.0
PRODID:-//Library Market//iCal Export//EN
BEGIN:VEVENT
SUMMARY:Fishtastic Kit
UID:479
DTSTAMP:20260423T113600Z
DTSTART:20240607T140000Z
DTEND:20240607T220000Z
LOCATION:Byron Public Library District, 100 S Washington St., Byron, IL 61
 010, United States
ROOM: Fishtastic Kit
DESCRIPTION:Create a mixed-media fish on canvas! This kit is for youth age
 s 3 years-entering Kindergarten (in 2024-25 school year).The following ite
 ms are needed from home (please let us know if you need these items). Ther
 e is a space provided near the end of the registration.Paint brushSchool g
 lue
URL:https://www.byronlibrary.org/event/fishtastic-kit-479
END:VEVENT
END:VCALENDAR
