BEGIN:VCALENDAR
VERSION:2.0
PRODID:-//Library Market//iCal Export//EN
BEGIN:VEVENT
SUMMARY:Ride the Wave Kit
UID:480
DTSTAMP:20260423T113500Z
DTSTART:20240607T140000Z
DTEND:20240607T220000Z
LOCATION:Byron Public Library District, 100 S Washington St., Byron, IL 61
 010, United States
ROOM: Ride the Wave Kit
DESCRIPTION:Create a 3-D wave and beach. Perch a small character on a mini
  surfboard. This kit is for youth entering 1st-6th grade in the 2024-25 sc
 hool year.The following items are needed from home to create this kit. Ple
 ase let us know in the space provided at the end of the registration form 
 if you need any of these items:Paint brushSchool glue
URL:https://www.byronlibrary.org/event/ride-wave-kit-480
END:VEVENT
END:VCALENDAR
