BEGIN:VCALENDAR
VERSION:2.0
PRODID:-//Library Market//iCal Export//EN
BEGIN:VEVENT
SUMMARY:Elephant &amp; Piggie Party
UID:482
DTSTAMP:20260423T115100Z
DTSTART:20240610T230000Z
DTEND:20240610T234500Z
LOCATION:Byron Public Library District, 100 S Washington St., Byron, IL 61
 010, United States
ROOM: Activity Room &amp; Meeting Room
DESCRIPTION:Join us for art &amp; activity stations that celebrate everyth
 ing Elephant &amp; Piggie! 
URL:https://www.byronlibrary.org/event/elephant-piggie-party-482
END:VEVENT
END:VCALENDAR
