BEGIN:VCALENDAR
VERSION:2.0
PRODID:-//Library Market//iCal Export//EN
BEGIN:VEVENT
SUMMARY:Christmas Movie Showing: The Angel of Pennsylvania Avenue
UID:5021
DTSTAMP:20260423T065300Z
DTSTART:20241204T190000Z
DTEND:20241204T210000Z
LOCATION:Byron Public Library District, 100 S Washington St., Byron, IL 61
 010, United States
ROOM: Meeting Room
DESCRIPTION:Get into the holiday spirit by watching the Christmas movie Th
 e Angel of Pennsylvania Avenue (rated PG). When an unemployed Detroit man 
 is arrested for a crime he didn&#039;t commit, his three children are dete
 rmined to get him out of jail in time for Christmas and they decide to enl
 ist the help of &quot;the most powerful man in the world&quot; - President
  Hoover. Along the way to the White House, they meet an array of colorful 
 characters, while continually evading the clutches of their worried mother
 . Popcorn and hot chocolate will be served during the movie. 
URL:https://www.byronlibrary.org/event/christmas-movie-showing-silent-nigh
 t-5021
END:VEVENT
END:VCALENDAR
