BEGIN:VCALENDAR
VERSION:2.0
PRODID:-//Library Market//iCal Export//EN
BEGIN:VEVENT
SUMMARY:DIY Winter Busted Canvas
UID:5144
DTSTAMP:20260423T082800Z
DTSTART:20241117T200000Z
DTEND:20241117T220000Z
LOCATION:Byron Public Library District, 100 S Washington St., Byron, IL 61
 010, United States
ROOM: Creative Studio &amp; Classroom 2
DESCRIPTION:Come try the technique that is taking the crafting world by st
 orm! The busted canvas is a craft technique that creates a 3D burst effect
  on a canvas to create a striking piece of artwork. In this program you wi
 ll make a winter themed busted canvas that&#039;s sure to be a perfect add
 ition to your holiday decor. 
URL:https://www.byronlibrary.org/event/adult-craft-program-5144
END:VEVENT
END:VCALENDAR
