BEGIN:VCALENDAR
VERSION:2.0
PRODID:-//Library Market//iCal Export//EN
BEGIN:VEVENT
SUMMARY:Movie Night in a Box Kit
UID:5154
DTSTAMP:20260423T095700Z
DTSTART:20241025T140000Z
DTEND:20241025T220000Z
LOCATION:Byron Public Library District, 100 S Washington St., Byron, IL 61
 010, United States
ROOM: Movie Night in a Box Kit
DESCRIPTION:Register for a &quot;Movie Night in a Box&quot; and receive 2 
 themed DVD&#039;s (October&#039;s theme is scary) handpicked just for you,
  and some treats to complete your Movie Night! Box and DVD&#039;s will nee
 d to be returned but you keep everything else! 
URL:https://www.byronlibrary.org/event/movie-night-box-kit-5154
END:VEVENT
END:VCALENDAR
