BEGIN:VCALENDAR
VERSION:2.0
PRODID:-//Library Market//iCal Export//EN
BEGIN:VEVENT
SUMMARY:Beginner Sewing Class
UID:5334
DTSTAMP:20260423T082800Z
DTSTART:20241122T160000Z
DTEND:20241122T180000Z
LOCATION:Byron Public Library District, 100 S Washington St., Byron, IL 61
 010, United States
ROOM: Creative Studio
DESCRIPTION:
URL:https://www.byronlibrary.org/event/beginner-sewing-class-5334
END:VEVENT
END:VCALENDAR
