BEGIN:VCALENDAR
VERSION:2.0
PRODID:-//Library Market//iCal Export//EN
BEGIN:VEVENT
SUMMARY:Friday Trivia
UID:5338
DTSTAMP:20260423T082800Z
DTSTART:20241115T160000Z
DTEND:20241115T173000Z
LOCATION:Byron Public Library District, 100 S Washington St., Byron, IL 61
 010, United States
ROOM: Meeting Room
DESCRIPTION:
URL:https://www.byronlibrary.org/event/friday-trivia-5338
END:VEVENT
END:VCALENDAR
