BEGIN:VCALENDAR
VERSION:2.0
PRODID:-//Library Market//iCal Export//EN
BEGIN:VEVENT
SUMMARY:Wednesday Night Readers
UID:5340
DTSTAMP:20260423T082900Z
DTSTART:20241121T003000Z
DTEND:20241121T013000Z
LOCATION:Byron Public Library District, 100 S Washington St., Byron, IL 61
 010, United States
ROOM: Classroom 1
DESCRIPTION:Genevieve (Gwen) Kingston&#039;s mother was diagnosed with ter
 minal cancer when Gwen was just three years old. Defying the odds, she liv
 ed another eight years - during which time she filled a chest with gifts a
 nd letters to Gwen and her brother, Jamie, for every major milestone and b
 irthday through age thirty. The day Gwen got her driver&#039;s license. Th
 e day she graduated from high school. Gwen is now in her thirties and, whe
 n Did I Ever Tell You? begins, three unopened boxes remain: engagement, ma
 rriage, and first baby. Two decades after her passing, Gwen&#039;s mother&
 #039;s extraordinary efforts created a lifelong conversation beyond the gr
 ave. 
URL:https://www.byronlibrary.org/event/wednesday-night-readers-5340
END:VEVENT
END:VCALENDAR
